BEGIN:VCALENDAR
VERSION:2.0
PRODID:-//IFS - ECPv6.5.0//NONSGML v1.0//EN
CALSCALE:GREGORIAN
METHOD:PUBLISH
X-WR-CALNAME:IFS
X-ORIGINAL-URL:https://ifsawards.eu
X-WR-CALDESC:Events for IFS
REFRESH-INTERVAL;VALUE=DURATION:PT1H
X-Robots-Tag:noindex
X-PUBLISHED-TTL:PT1H
BEGIN:VTIMEZONE
TZID:Europe/Helsinki
BEGIN:DAYLIGHT
TZOFFSETFROM:+0200
TZOFFSETTO:+0300
TZNAME:EEST
DTSTART:20240331T010000
END:DAYLIGHT
BEGIN:STANDARD
TZOFFSETFROM:+0300
TZOFFSETTO:+0200
TZNAME:EET
DTSTART:20241027T010000
END:STANDARD
END:VTIMEZONE
BEGIN:VEVENT
DTSTART;VALUE=DATE:20240528
DTEND;VALUE=DATE:20240529
DTSTAMP:20260422T154743
CREATED:20241126T132403Z
LAST-MODIFIED:20241126T132403Z
UID:10000014-1716854400-1716940799@ifsawards.eu
SUMMARY:Applications Deadline IFS Awards 2024!
DESCRIPTION:
URL:https://ifsawards.eu/event/applications-deadline-ifs-awards-2024/
END:VEVENT
BEGIN:VEVENT
DTSTART;TZID=Europe/Helsinki:20240517T100000
DTEND;TZID=Europe/Helsinki:20240517T120000
DTSTAMP:20260422T154743
CREATED:20240527T121334Z
LAST-MODIFIED:20240527T122144Z
UID:10000003-1715940000-1715947200@ifsawards.eu
SUMMARY:IFS Awards 2024! Dissemination Conference in the University of Macedonia
DESCRIPTION:The One Stop Liaison Office of the Region of Central Macedonia\, invites you to participate in the “IFS Awards 2024: Open Innovation Competition” Conference. The event is organized by the One Stop Liaison Office of the Region of Central Macedonia\, in collaboration with the University of Macedonia\, with the aim of informing its researchers for the IFS Awards 2024 Open Innovation Competition.
URL:https://ifsawards.eu/event/ifs-awards-2024-dissemination-conference-in-the-university-of-macedonia/
LOCATION:Conference Hall of the University of Macedonia\, Egnatia 156\, Thessaloniki\, 546 36\, Greece
CATEGORIES:Conference
ATTACH;FMTTYPE=image/jpeg:https://ifsawards.eu/wp-content/uploads/2024/05/image11.jpeg
END:VEVENT
BEGIN:VEVENT
DTSTART;TZID=Europe/Helsinki:20240516T110000
DTEND;TZID=Europe/Helsinki:20240516T130000
DTSTAMP:20260422T154743
CREATED:20240527T131157Z
LAST-MODIFIED:20240527T131157Z
UID:10000005-1715857200-1715864400@ifsawards.eu
SUMMARY:IFS Awards 2024! Dissemination Event in the Centre for Research and Technology Hellas (CERTH)
DESCRIPTION:The One Stop Liaison Office of the Region of Central Macedonia\, in collaboration with the Centre for Research and Technology Hellas (CERTH)\, invites you in the event “IFS Awards 2024: Open Innovation Competition”. The aim of the upcoming event is to analytically inform CERTH researchers regarding IFS Awards 2024 Open Innovation Competition. \n 
URL:https://ifsawards.eu/event/ifs-awards-2024-dissemination-event-in-the-centre-for-research-and-technology-hellas-certh/
LOCATION:Central Administraion Building\, Michael-Gerasimos Strintzis Hall\, CERTH\, 6th km Harilaou – Thermis\, Thermi\, CERTH\, Thessaloniki\, 60361\, Greece
CATEGORIES:Event
END:VEVENT
END:VCALENDAR