BEGIN:VCALENDAR
VERSION:2.0
PRODID:-//IFS - ECPv6.5.0//NONSGML v1.0//EN
CALSCALE:GREGORIAN
METHOD:PUBLISH
X-WR-CALNAME:IFS
X-ORIGINAL-URL:https://ifsawards.eu
X-WR-CALDESC:Events for IFS
REFRESH-INTERVAL;VALUE=DURATION:PT1H
X-Robots-Tag:noindex
X-PUBLISHED-TTL:PT1H
BEGIN:VTIMEZONE
TZID:Europe/Helsinki
BEGIN:DAYLIGHT
TZOFFSETFROM:+0200
TZOFFSETTO:+0300
TZNAME:EEST
DTSTART:20240331T010000
END:DAYLIGHT
BEGIN:STANDARD
TZOFFSETFROM:+0300
TZOFFSETTO:+0200
TZNAME:EET
DTSTART:20241027T010000
END:STANDARD
END:VTIMEZONE
BEGIN:VEVENT
DTSTART;TZID=Europe/Helsinki:20240617T140000
DTEND;TZID=Europe/Helsinki:20240617T170000
DTSTAMP:20260422T192437
CREATED:20240612T065555Z
LAST-MODIFIED:20240612T065944Z
UID:10000011-1718632800-1718643600@ifsawards.eu
SUMMARY:IFS Awards Bootcamp - 1st Day
DESCRIPTION:The O.S.L.O of the Region of Central Macedonia\, announces the initiation of the IFS Awards Bootcamp by organizing an event that aims to bring closer the Organizers\, the Challenge Owners and the qualified Solution Providers\, enhancing the cooperation among them.
URL:https://ifsawards.eu/event/ifs-awards-bootcamp-1st-stakeholders-meeting/
CATEGORIES:Bootcamp,Event
END:VEVENT
END:VCALENDAR